{ "currentVersion": 11.5, "cimVersion": "3.5.0", "serviceDescription": "
Plán starého města mostu - Lage Plan Ludwig Granzner (30. léta 20. stol.)<\/SPAN><\/P><\/DIV>",
"mapName": "Lage Plan Ludwig Granzner (30. léta 20. stol.)",
"description": "",
"copyrightText": "",
"supportsDynamicLayers": true,
"layers": [
{
"id": 0,
"name": "Lage Plan Ludwig Granzner (30. léta 20. stol.)",
"parentLayerId": -1,
"defaultVisibility": true,
"subLayerIds": null,
"minScale": 50000,
"maxScale": 250,
"type": "Raster Layer",
"supportsDynamicLegends": true
},
{
"id": 1,
"name": "VodoznakVelky",
"parentLayerId": -1,
"defaultVisibility": true,
"subLayerIds": [
21
],
"minScale": 0,
"maxScale": 10000,
"type": "Annotation Layer",
"geometryType": "esriGeometryPolygon",
"supportsDynamicLegends": false
},
{
"id": 21,
"name": "Default",
"parentLayerId": 1,
"defaultVisibility": true,
"subLayerIds": null,
"minScale": 0,
"maxScale": 0,
"supportsDynamicLegends": false
},
{
"id": 2,
"name": "VodoznakMaly",
"parentLayerId": -1,
"defaultVisibility": true,
"subLayerIds": [
23
],
"minScale": 9999,
"maxScale": 0,
"type": "Annotation Layer",
"geometryType": "esriGeometryPolygon",
"supportsDynamicLegends": false
},
{
"id": 23,
"name": "Default",
"parentLayerId": 2,
"defaultVisibility": true,
"subLayerIds": null,
"minScale": 0,
"maxScale": 0,
"supportsDynamicLegends": false
}
],
"tables": [],
"spatialReference": {
"wkid": 102067,
"latestWkid": 5514,
"xyTolerance": 0.001,
"zTolerance": 2,
"mTolerance": 2,
"falseX": -33699800,
"falseY": -33699800,
"xyUnits": 1.3363876424698351E8,
"falseZ": 0,
"zUnits": 1,
"falseM": -100000,
"mUnits": 10000
},
"singleFusedMapCache": true,
"tileInfo": {
"rows": 256,
"cols": 256,
"dpi": 96,
"format": "MIXED",
"compressionQuality": 75,
"origin": {
"x": -33699800,
"y": 33699800
},
"spatialReference": {
"wkid": 102067,
"latestWkid": 5514,
"xyTolerance": 0.001,
"zTolerance": 2.0E-4,
"mTolerance": 2.0E-4,
"falseX": -33699800,
"falseY": -33699800,
"xyUnits": 1.3363876424698351E8,
"falseZ": -100000,
"zUnits": 10000,
"falseM": -100000,
"mUnits": 10000
},
"lods": [
{
"level": 0,
"resolution": 26.458386250105836,
"scale": 100000
},
{
"level": 1,
"resolution": 13.229193125052918,
"scale": 50000
},
{
"level": 2,
"resolution": 6.614596562526459,
"scale": 25000
},
{
"level": 3,
"resolution": 2.6458386250105836,
"scale": 10000
},
{
"level": 4,
"resolution": 1.3229193125052918,
"scale": 5000
},
{
"level": 5,
"resolution": 0.6614596562526459,
"scale": 2500
},
{
"level": 6,
"resolution": 0.5291677250021167,
"scale": 2000
},
{
"level": 7,
"resolution": 0.39687579375158755,
"scale": 1500
},
{
"level": 8,
"resolution": 0.26458386250105836,
"scale": 1000
},
{
"level": 9,
"resolution": 0.13229193125052918,
"scale": 500
},
{
"level": 10,
"resolution": 0.06614596562526459,
"scale": 250
}
]
},
"storageInfo": {
"storageFormat": "esriMapCacheStorageModeCompactV2",
"packetSize": 128
},
"initialExtent": {
"xmin": -790884.7736036326,
"ymin": -986962.2729203304,
"xmax": -790639.7131818978,
"ymax": -986696.5306477166,
"spatialReference": {
"wkid": 102067,
"latestWkid": 5514,
"xyTolerance": 0.001,
"zTolerance": 2,
"mTolerance": 2,
"falseX": -33699800,
"falseY": -33699800,
"xyUnits": 1.3363876424698351E8,
"falseZ": 0,
"zUnits": 1,
"falseM": -100000,
"mUnits": 10000
}
},
"fullExtent": {
"xmin": -792635.5162931463,
"ymin": -987924.0578139351,
"xmax": -788988.9231988069,
"ymax": -985942.2680008581,
"spatialReference": {
"wkid": 102067,
"latestWkid": 5514,
"xyTolerance": 0.001,
"zTolerance": 2,
"mTolerance": 2,
"falseX": -33699800,
"falseY": -33699800,
"xyUnits": 1.3363876424698351E8,
"falseZ": 0,
"zUnits": 1,
"falseM": -100000,
"mUnits": 10000
}
},
"datesInUnknownTimezone": false,
"minScale": 100000,
"maxScale": 250,
"minLOD": 0,
"maxLOD": 10,
"units": "esriMeters",
"supportedImageFormatTypes": "PNG32,PNG24,PNG,JPG,DIB,TIFF,EMF,PS,PDF,GIF,SVG,SVGZ,BMP",
"documentInfo": {
"Title": "Lage Plan Ludwig Granzner (30. léta 20. stol.)",
"Author": "",
"Comments": " Plán starého města mostu - Lage Plan Ludwig Granzner (30. léta 20. stol.)<\/SPAN><\/P><\/DIV>",
"Subject": "Plán starého města mostu - Lage Plan Ludwig Granzner (30. léta 20. stol.)",
"Category": "",
"Version": "2.4.0",
"AntialiasingMode": "Fast",
"TextAntialiasingMode": "Force",
"Keywords": "Starý Most,plán města"
},
"supportsQueryDomains": true,
"capabilities": "Query,Map,Data",
"supportedQueryFormats": "JSON, geoJSON, PBF",
"exportTilesAllowed": false,
"referenceScale": 0.0,
"datumTransformations": [
{
"geoTransforms": [
{
"wkid": 108001,
"latestWkid": 1241,
"transformForward": true,
"name": "NAD_1927_To_NAD_1983_NADCON"
}
]
},
{
"geoTransforms": [
{
"wkid": 108001,
"latestWkid": 1241,
"transformForward": false,
"name": "NAD_1927_To_NAD_1983_NADCON"
}
]
}
],
"supportsDatumTransformation": true,
"archivingInfo": {"supportsHistoricMoment": false},
"supportsClipping": true,
"supportsSpatialFilter": true,
"supportsTimeRelation": true,
"supportsQueryDataElements": true,
"mapUnits": {"uwkid": 9001},
"maxSelectionCount": 2000,
"maxRecordCount": 2000,
"maxImageHeight": 4096,
"maxImageWidth": 4096,
"supportedExtensions": "",
"serviceItemId": "784e7967cab848a99e6a94bb664deda3"
}