{ "currentVersion": 11.5, "cimVersion": "3.5.0", "serviceDescription": "
Bez podkladu - Podkladová mapa pro webové aplikace<\/SPAN><\/P><\/DIV><\/DIV>",
"mapName": "Bez podkladu",
"description": " Bez podkladu - Podkladová mapa pro webové aplikace<\/SPAN><\/P><\/DIV><\/DIV>",
"copyrightText": "",
"supportsDynamicLayers": true,
"layers": [
{
"id": 0,
"name": "BezPodkladuJtsk",
"parentLayerId": -1,
"defaultVisibility": true,
"subLayerIds": null,
"minScale": 0,
"maxScale": 0,
"type": "Feature Layer",
"geometryType": "esriGeometryPolygon",
"supportsDynamicLegends": true
}
],
"tables": [],
"spatialReference": {
"wkid": 102067,
"latestWkid": 5514,
"xyTolerance": 0.001,
"zTolerance": 0.001,
"mTolerance": 0.001,
"falseX": -33699800,
"falseY": -33699800,
"xyUnits": 1.3363876424698351E8,
"falseZ": -100000,
"zUnits": 10000,
"falseM": -100000,
"mUnits": 10000
},
"singleFusedMapCache": true,
"tileInfo": {
"rows": 256,
"cols": 256,
"dpi": 96,
"format": "MIXED",
"compressionQuality": 75,
"origin": {
"x": -33699800,
"y": 33699800
},
"spatialReference": {
"wkid": 102067,
"latestWkid": 5514,
"xyTolerance": 0.001,
"zTolerance": 2.0E-4,
"mTolerance": 2.0E-4,
"falseX": -33699800,
"falseY": -33699800,
"xyUnits": 1.3363876424698351E8,
"falseZ": -100000,
"zUnits": 10000,
"falseM": -100000,
"mUnits": 10000
},
"lods": [
{
"level": 0,
"resolution": 26.458386250105836,
"scale": 100000
},
{
"level": 1,
"resolution": 13.229193125052918,
"scale": 50000
},
{
"level": 2,
"resolution": 6.614596562526459,
"scale": 25000
},
{
"level": 3,
"resolution": 2.6458386250105836,
"scale": 10000
},
{
"level": 4,
"resolution": 1.3229193125052918,
"scale": 5000
},
{
"level": 5,
"resolution": 0.6614596562526459,
"scale": 2500
},
{
"level": 6,
"resolution": 0.5291677250021167,
"scale": 2000
},
{
"level": 7,
"resolution": 0.39687579375158755,
"scale": 1500
},
{
"level": 8,
"resolution": 0.26458386250105836,
"scale": 1000
},
{
"level": 9,
"resolution": 0.13229193125052918,
"scale": 500
},
{
"level": 10,
"resolution": 0.06614596562526459,
"scale": 250
}
]
},
"storageInfo": {
"storageFormat": "esriMapCacheStorageModeCompactV2",
"packetSize": 128
},
"initialExtent": {
"xmin": -872365.1900981633,
"ymin": -1057071.4589074485,
"xmax": -702387.7415057746,
"ymax": -931145.3598162149,
"spatialReference": {
"wkid": 102067,
"latestWkid": 5514,
"xyTolerance": 0.001,
"zTolerance": 0.001,
"mTolerance": 0.001,
"falseX": -33699800,
"falseY": -33699800,
"xyUnits": 1.3363876424698351E8,
"falseZ": -100000,
"zUnits": 10000,
"falseM": -100000,
"mUnits": 10000
}
},
"fullExtent": {
"xmin": -804256.9113670879,
"ymin": -1003752.71703274,
"xmax": -776697.8562489776,
"ymax": -979411.0016826427,
"spatialReference": {
"wkid": 102067,
"latestWkid": 5514,
"xyTolerance": 0.001,
"zTolerance": 0.001,
"mTolerance": 0.001,
"falseX": -33699800,
"falseY": -33699800,
"xyUnits": 1.3363876424698351E8,
"falseZ": -100000,
"zUnits": 10000,
"falseM": -100000,
"mUnits": 10000
}
},
"datesInUnknownTimezone": false,
"minScale": 100000,
"maxScale": 250,
"minLOD": 0,
"maxLOD": 10,
"units": "esriMeters",
"supportedImageFormatTypes": "PNG32,PNG24,PNG,JPG,DIB,TIFF,EMF,PS,PDF,GIF,SVG,SVGZ,BMP",
"documentInfo": {
"Title": "Bez podkladu",
"Author": "",
"Comments": " Bez podkladu - Podkladová mapa pro webové aplikace<\/SPAN><\/P><\/DIV><\/DIV>",
"Subject": "Bez podkladu - Podkladová mapa pro webové aplikace",
"Category": "",
"Version": "2.5.0",
"AntialiasingMode": "Fast",
"TextAntialiasingMode": "Force",
"Keywords": "bez podkladu"
},
"supportsQueryDomains": true,
"capabilities": "Query,Map,Data",
"supportedQueryFormats": "JSON, geoJSON, PBF",
"exportTilesAllowed": false,
"referenceScale": 0.0,
"supportsDatumTransformation": true,
"archivingInfo": {"supportsHistoricMoment": false},
"supportsClipping": true,
"supportsSpatialFilter": true,
"supportsTimeRelation": true,
"supportsQueryDataElements": true,
"mapUnits": {"uwkid": 9001},
"maxSelectionCount": 2000,
"maxRecordCount": 2000,
"maxImageHeight": 4096,
"maxImageWidth": 4096,
"supportedExtensions": "",
"serviceItemId": "ac281c1336e24632bdccc037c134ed96"
}