Ortofoto 20<\/span>2<\/span>5<\/span> pro ORP Most<\/span> a okolí<\/span>, poskytovatel <\/span>ČÚZK<\/span><\/p><\/div>",
"mapName": "Ortofoto 2025 ČÚZK",
"description": "Ortofoto 2025 pro ORP Most a okolí, poskytovatel ČÚZK",
"copyrightText": "Podkladová data (c) ČÚZK<\/a>",
"supportsDynamicLayers": true,
"layers": [
{
"id": 4,
"name": "Ortofoto 2025 ČÚZK",
"parentLayerId": -1,
"defaultVisibility": true,
"subLayerIds": [
5,
6,
7
],
"minScale": 0,
"maxScale": 0,
"type": "Mosaic Layer",
"supportsDynamicLegends": false
},
{
"id": 5,
"name": "Boundary",
"parentLayerId": 4,
"defaultVisibility": false,
"subLayerIds": null,
"minScale": 0,
"maxScale": 0,
"type": "Feature Layer",
"geometryType": "esriGeometryPolygon",
"supportsDynamicLegends": true
},
{
"id": 6,
"name": "Footprint",
"parentLayerId": 4,
"defaultVisibility": false,
"subLayerIds": null,
"minScale": 0,
"maxScale": 0,
"type": "Feature Layer",
"geometryType": "esriGeometryPolygon",
"supportsDynamicLegends": true
},
{
"id": 7,
"name": "Image",
"parentLayerId": 4,
"defaultVisibility": true,
"subLayerIds": null,
"minScale": 0,
"maxScale": 0,
"type": "Raster Layer",
"supportsDynamicLegends": true
}
],
"tables": [],
"spatialReference": {
"wkid": 102067,
"latestWkid": 5514,
"xyTolerance": 0.001,
"zTolerance": 0.001,
"mTolerance": 0.001,
"falseX": -33699800,
"falseY": -33699800,
"xyUnits": 10000,
"falseZ": -100000,
"zUnits": 10000,
"falseM": -100000,
"mUnits": 10000
},
"singleFusedMapCache": true,
"tileInfo": {
"rows": 256,
"cols": 256,
"dpi": 96,
"format": "MIXED",
"compressionQuality": 100,
"origin": {
"x": -33699800,
"y": 33699800
},
"spatialReference": {
"wkid": 102067,
"latestWkid": 5514,
"xyTolerance": 0.001,
"zTolerance": 0.001,
"mTolerance": 0.001,
"falseX": -33699800,
"falseY": -33699800,
"xyUnits": 1.3363876424698351E8,
"falseZ": -100000,
"zUnits": 10000,
"falseM": -100000,
"mUnits": 10000
},
"lods": [
{
"level": 0,
"resolution": 26.458386250105836,
"scale": 100000
},
{
"level": 1,
"resolution": 13.229193125052918,
"scale": 50000
},
{
"level": 2,
"resolution": 6.614596562526459,
"scale": 25000
},
{
"level": 3,
"resolution": 2.6458386250105836,
"scale": 10000
},
{
"level": 4,
"resolution": 1.3229193125052918,
"scale": 5000
},
{
"level": 5,
"resolution": 0.6614596562526459,
"scale": 2500
},
{
"level": 6,
"resolution": 0.5291677250021167,
"scale": 2000
},
{
"level": 7,
"resolution": 0.39687579375158755,
"scale": 1500
},
{
"level": 8,
"resolution": 0.26458386250105836,
"scale": 1000
},
{
"level": 9,
"resolution": 0.13229193125052918,
"scale": 500
},
{
"level": 10,
"resolution": 0.06614596562526459,
"scale": 250
}
]
},
"storageInfo": {
"storageFormat": "esriMapCacheStorageModeCompactV2",
"packetSize": 128
},
"initialExtent": {
"xmin": -837302.6701940339,
"ymin": -1009769.7331140093,
"xmax": -731841.1962502525,
"ymax": -961731.2255786608,
"spatialReference": {
"wkid": 102067,
"latestWkid": 5514,
"xyTolerance": 0.001,
"zTolerance": 0.001,
"mTolerance": 0.001,
"falseX": -33699800,
"falseY": -33699800,
"xyUnits": 10000,
"falseZ": -100000,
"zUnits": 10000,
"falseM": -100000,
"mUnits": 10000
}
},
"fullExtent": {
"xmin": -812500,
"ymin": -1004000,
"xmax": -767500,
"ymax": -964000,
"spatialReference": {
"wkid": 102067,
"latestWkid": 5514,
"xyTolerance": 0.001,
"zTolerance": 0.001,
"mTolerance": 0.001,
"falseX": -33699800,
"falseY": -33699800,
"xyUnits": 10000,
"falseZ": -100000,
"zUnits": 10000,
"falseM": -100000,
"mUnits": 10000
}
},
"datesInUnknownTimezone": false,
"minScale": 100000,
"maxScale": 250,
"maxLOD": 10,
"units": "esriMeters",
"supportedImageFormatTypes": "PNG32,PNG24,PNG,JPG,DIB,TIFF,EMF,PS,PDF,GIF,SVG,SVGZ,BMP",
"documentInfo": {
"Title": "Ortofoto 2025",
"Author": "",
"Comments": "Ortofoto 2025 pro ORP Most a okolí, poskytovatel ČÚZK",
"Subject": "Ortofoto 2025 (ČÚZK)",
"Category": "",
"Version": "3.5.0",
"AntialiasingMode": "Fast",
"TextAntialiasingMode": "Force",
"Keywords": "ortofoto,2025,Most,ORP Most,okres Most,ČÚZK"
},
"supportsQueryDomains": true,
"capabilities": "Map,Query,Data,TileMap",
"supportedQueryFormats": "JSON, geoJSON, PBF",
"exportTilesAllowed": true,
"maxExportTilesCount": 100000,
"referenceScale": 0.0,
"supportsDatumTransformation": true,
"archivingInfo": {"supportsHistoricMoment": false},
"supportsClipping": true,
"supportsSpatialFilter": true,
"supportsTimeRelation": true,
"supportsQueryDataElements": true,
"mapUnits": {"uwkid": 9001},
"maxSelectionCount": 2000,
"maxRecordCount": 2000,
"maxImageHeight": 4096,
"maxImageWidth": 4096,
"supportedExtensions": "",
"resampling": false,
"serviceItemId": "af366b18b9f84a01a7d832818ea9efe6"
}