{ "currentVersion": 11.5, "cimVersion": "3.5.0", "serviceDescription": "

Ortofoto 1947, MO ČR, VGHmÚř Dobruška, zpracovatel Georeal Plzeň<\/SPAN><\/P><\/DIV><\/DIV>", "mapName": "Ortofoto 1947 Vghmur", "description": "

Ortofoto 1947, MO ČR, VGHmÚř Dobruška, zpracovatel Georeal Plzeň<\/SPAN><\/P><\/DIV><\/DIV>", "copyrightText": "Podkladová data (c) MO ČR<\/a>", "supportsDynamicLayers": true, "layers": [ { "id": 0, "name": "Mimo viditelné měřítko", "parentLayerId": -1, "defaultVisibility": true, "subLayerIds": null, "minScale": 0, "maxScale": 100001, "type": "Feature Layer", "geometryType": "esriGeometryPolygon", "supportsDynamicLegends": true }, { "id": 1, "name": "MO ČR", "parentLayerId": -1, "defaultVisibility": true, "subLayerIds": null, "minScale": 100000, "maxScale": 0, "type": "Feature Layer", "geometryType": "esriGeometryPolygon", "supportsDynamicLegends": true }, { "id": 2, "name": "Ortofoto (1947, VGHMÚ Dobruška)", "parentLayerId": -1, "defaultVisibility": true, "subLayerIds": null, "minScale": 100000, "maxScale": 500, "type": "Raster Layer", "supportsDynamicLegends": true }, { "id": 3, "name": "Mimo rozsah mapy", "parentLayerId": -1, "defaultVisibility": true, "subLayerIds": null, "minScale": 25000, "maxScale": 0, "type": "Feature Layer", "geometryType": "esriGeometryPolygon", "supportsDynamicLegends": true } ], "tables": [], "spatialReference": { "wkid": 102067, "latestWkid": 5514, "xyTolerance": 0.001, "zTolerance": 2.0E-4, "mTolerance": 2.0E-4, "falseX": -33699800, "falseY": -33699800, "xyUnits": 1.3363876424698351E8, "falseZ": -100000, "zUnits": 10000, "falseM": -100000, "mUnits": 10000 }, "singleFusedMapCache": true, "tileInfo": { "rows": 256, "cols": 256, "dpi": 96, "format": "MIXED", "compressionQuality": 75, "origin": { "x": -33699800, "y": 33699800 }, "spatialReference": { "wkid": 102067, "latestWkid": 5514, "xyTolerance": 0.001, "zTolerance": 2.0E-4, "mTolerance": 2.0E-4, "falseX": -33699800, "falseY": -33699800, "xyUnits": 1.3363876424698351E8, "falseZ": -100000, "zUnits": 10000, "falseM": -100000, "mUnits": 10000 }, "lods": [ { "level": 0, "resolution": 26.458386250105836, "scale": 100000 }, { "level": 1, "resolution": 13.229193125052918, "scale": 50000 }, { "level": 2, "resolution": 6.614596562526459, "scale": 25000 }, { "level": 3, "resolution": 2.6458386250105836, "scale": 10000 }, { "level": 4, "resolution": 1.3229193125052918, "scale": 5000 }, { "level": 5, "resolution": 0.6614596562526459, "scale": 2500 }, { "level": 6, "resolution": 0.5291677250021167, "scale": 2000 }, { "level": 7, "resolution": 0.39687579375158755, "scale": 1500 }, { "level": 8, "resolution": 0.26458386250105836, "scale": 1000 }, { "level": 9, "resolution": 0.13229193125052918, "scale": 500 }, { "level": 10, "resolution": 0.06614596562526459, "scale": 250 } ] }, "storageInfo": { "storageFormat": "esriMapCacheStorageModeCompactV2", "packetSize": 128 }, "initialExtent": { "xmin": -792880.5171324855, "ymin": -988488.3723163654, "xmax": -788493.7106948453, "ymax": -985482.866087602, "spatialReference": { "wkid": 102067, "latestWkid": 5514, "xyTolerance": 0.001, "zTolerance": 2.0E-4, "mTolerance": 2.0E-4, "falseX": -33699800, "falseY": -33699800, "xyUnits": 1.3363876424698351E8, "falseZ": -100000, "zUnits": 10000, "falseM": -100000, "mUnits": 10000 } }, "fullExtent": { "xmin": -833572.5172000006, "ymin": -1023682.499400001, "xmax": -751072.5172000006, "ymax": -951628.5205000006, "spatialReference": { "wkid": 102067, "latestWkid": 5514, "xyTolerance": 0.001, "zTolerance": 2.0E-4, "mTolerance": 2.0E-4, "falseX": -33699800, "falseY": -33699800, "xyUnits": 1.3363876424698351E8, "falseZ": -100000, "zUnits": 10000, "falseM": -100000, "mUnits": 10000 } }, "datesInUnknownTimezone": false, "minScale": 100000, "maxScale": 250, "minLOD": 0, "maxLOD": 10, "units": "esriMeters", "supportedImageFormatTypes": "PNG32,PNG24,PNG,JPG,DIB,TIFF,EMF,PS,PDF,GIF,SVG,SVGZ,BMP", "documentInfo": { "Title": "Ortofoto 1947 Vghmur", "Author": "", "Comments": "

Ortofoto 1947, MO ČR, VGHmÚř Dobruška, zpracovatel Georeal Plzeň<\/SPAN><\/P><\/DIV><\/DIV>", "Subject": "Ortofoto 1947", "Category": "", "Version": "2.5.0", "AntialiasingMode": "Fast", "TextAntialiasingMode": "Force", "Keywords": "ortofoto,1947,Most" }, "supportsQueryDomains": true, "capabilities": "Map,Query,Data", "supportedQueryFormats": "JSON, geoJSON, PBF", "exportTilesAllowed": true, "maxExportTilesCount": 100000, "referenceScale": 0.0, "datumTransformations": [ { "geoTransforms": [ { "wkid": 108001, "latestWkid": 1241, "transformForward": true, "name": "NAD_1927_To_NAD_1983_NADCON" } ] }, { "geoTransforms": [ { "wkid": 108001, "latestWkid": 1241, "transformForward": false, "name": "NAD_1927_To_NAD_1983_NADCON" } ] } ], "supportsDatumTransformation": true, "archivingInfo": {"supportsHistoricMoment": false}, "supportsClipping": true, "supportsSpatialFilter": true, "supportsTimeRelation": true, "supportsQueryDataElements": true, "mapUnits": {"uwkid": 9001}, "maxSelectionCount": 2000, "maxRecordCount": 2000, "maxImageHeight": 4096, "maxImageWidth": 4096, "supportedExtensions": "", "serviceItemId": "a0b1bc019af745dab0da3dc3b19dd5cd" }